BEGIN:VCALENDAR
VERSION:2.0
PRODID:-//The Single Mom KC - ECPv6.15.20//NONSGML v1.0//EN
CALSCALE:GREGORIAN
METHOD:PUBLISH
X-WR-CALNAME:The Single Mom KC
X-ORIGINAL-URL:https://www.thesinglemomkc.org
X-WR-CALDESC:Events for The Single Mom KC
REFRESH-INTERVAL;VALUE=DURATION:PT1H
X-Robots-Tag:noindex
X-PUBLISHED-TTL:PT1H
BEGIN:VTIMEZONE
TZID:UTC
BEGIN:STANDARD
TZOFFSETFROM:+0000
TZOFFSETTO:+0000
TZNAME:UTC
DTSTART:20250101T000000
END:STANDARD
END:VTIMEZONE
BEGIN:VEVENT
DTSTART;TZID=UTC:20260423T090000
DTEND;TZID=UTC:20260423T120000
DTSTAMP:20260423T150359
CREATED:20230322T033528Z
LAST-MODIFIED:20230322T033528Z
UID:10000920-1776934800-1776945600@www.thesinglemomkc.org
SUMMARY:Open Gym
DESCRIPTION:[vc_row type=”in_container” full_screen_row_position=”middle” column_margin=”default” column_direction=”default” column_direction_tablet=”default” column_direction_phone=”default” scene_position=”center” text_color=”dark” text_align=”left” row_border_radius=”none” row_border_radius_applies=”bg” overflow=”visible” overlay_strength=”0.3″ gradient_direction=”left_to_right” shape_divider_position=”bottom” bg_image_animation=”none”][vc_column column_padding=”no-extra-padding” column_padding_tablet=”inherit” column_padding_phone=”inherit” column_padding_position=”all” column_element_direction_desktop=”default” column_element_spacing=”default” desktop_text_alignment=”default” tablet_text_alignment=”default” phone_text_alignment=”default” background_color_opacity=”1″ background_hover_color_opacity=”1″ column_backdrop_filter=”none” column_shadow=”none” column_border_radius=”none” column_link_target=”_self” column_position=”default” gradient_direction=”left_to_right” overlay_strength=”0.3″ width=”1/1″ tablet_width_inherit=”default” animation_type=”default” bg_image_animation=”none” border_type=”simple” column_border_width=”none” column_border_style=”solid”][vc_column_text]Come have some fun in the Kaw Prairie gym! Enjoy time with friends in a safe\, clean environment. The Playplace and KP Cafe are also open.[/vc_column_text][nectar_btn size=”large” open_new_tab=”true” button_style=”regular” button_color_2=”Accent-Color” icon_family=”none” text=”More Details” url=”https://www.kawprairie.org/opengym”][/vc_column][/vc_row]
URL:https://www.thesinglemomkc.org/event/kp-open-gym/2026-04-23/
LOCATION:Kaw Prairie Community Church\, 9421 Meadow View Drive\, Lenexa\, KS\, 66227\, United States
CATEGORIES:Local Area Event
ATTACH;FMTTYPE=image/jpeg:https://www.thesinglemomkc.org/wp-content/uploads/2023/03/april-2023-open-gym-kaw.jpg
END:VEVENT
END:VCALENDAR